BEGIN:VCALENDAR
VERSION:2.0
PRODID:-//琉球提琴曲 -Ryukyuish Violin- - ECPv6.10.2//NONSGML v1.0//EN
CALSCALE:GREGORIAN
METHOD:PUBLISH
X-WR-CALNAME:琉球提琴曲 -Ryukyuish Violin-
X-ORIGINAL-URL:https://www.ryukyuishviolin.com
X-WR-CALDESC:琉球提琴曲 -Ryukyuish Violin- のイベント
REFRESH-INTERVAL;VALUE=DURATION:PT1H
X-Robots-Tag:noindex
X-PUBLISHED-TTL:PT1H
BEGIN:VTIMEZONE
TZID:Asia/Tokyo
BEGIN:STANDARD
TZOFFSETFROM:+0900
TZOFFSETTO:+0900
TZNAME:JST
DTSTART:20240101T000000
END:STANDARD
END:VTIMEZONE
BEGIN:VEVENT
DTSTART;TZID=Asia/Tokyo:20240823T202500
DTEND;TZID=Asia/Tokyo:20240824T202500
DTSTAMP:20260426T010610
CREATED:20240823T141752Z
LAST-MODIFIED:20240823T141752Z
UID:7608-1724444700-1724531100@www.ryukyuishviolin.com
SUMMARY:さんふらわあ (大阪⇔別府) Ferry “Sunflower”(Osaka⇔Beppu)
DESCRIPTION:フェリーさんふらわあ\nエンジョイコンサート\n2024.8.23.(金) 大阪→別府\n8.24.(土) 別府→大阪 \n出演：【琉球ヴァイオリン & VaGu】\n大城敦博：ヴァイパー\n中野潔子：ヴィオラ・ダ・ガンバ \n主な演奏内容\n#琉球提琴曲\n#オリジナル\n#琉球器楽\n#琉球ヴァイオリン\n#世界の名曲 \nFerry SUNFLOWER\n“Enjoy Concert” \nAugust. 23\, 2024\nfrom Osaka to Beppu\nAugust. 24.\nfrom Beppu to Osaka \nPerformers:\n“The Ryukyuish Instrumental music”\nAtsuhiro Oshiro: Viper\nKiyoko Nakano: viola da gamba \nMain performance contents\n#Ryukyuish (old-Okinawan)\n#Originals\n#World music
URL:https://www.ryukyuishviolin.com/event/20240823
CATEGORIES:イベント,バンドライヴ,フェリー
ATTACH;FMTTYPE=image/jpeg:https://www.ryukyuishviolin.com/wp-content/uploads/2024/03/20240306_205119.jpg
END:VEVENT
END:VCALENDAR