BEGIN:VCALENDAR
VERSION:2.0
PRODID:-//琉球提琴曲 -Ryukyuish Violin- - ECPv6.10.2//NONSGML v1.0//EN
CALSCALE:GREGORIAN
METHOD:PUBLISH
X-WR-CALNAME:琉球提琴曲 -Ryukyuish Violin-
X-ORIGINAL-URL:https://www.ryukyuishviolin.com
X-WR-CALDESC:琉球提琴曲 -Ryukyuish Violin- のイベント
REFRESH-INTERVAL;VALUE=DURATION:PT1H
X-Robots-Tag:noindex
X-PUBLISHED-TTL:PT1H
BEGIN:VTIMEZONE
TZID:Asia/Tokyo
BEGIN:STANDARD
TZOFFSETFROM:+0900
TZOFFSETTO:+0900
TZNAME:JST
DTSTART:20250101T000000
END:STANDARD
END:VTIMEZONE
BEGIN:VEVENT
DTSTART;TZID=Asia/Tokyo:20250222T120000
DTEND;TZID=Asia/Tokyo:20250222T130000
DTSTAMP:20260426T011020
CREATED:20250107T044059Z
LAST-MODIFIED:20250107T044059Z
UID:7968-1740225600-1740229200@www.ryukyuishviolin.com
SUMMARY:“みゅーず”定期ライヴ(京都 園部) “Muse” Monthly Concert (Sonobe\, Kyoto)
DESCRIPTION:2月の “みゅーず” 定期ライヴは\n22(土)12時～です。 \nご好評いただいている古民家カフェ×アイリッシュ音楽\nアイリッシュバンド“みゅーず”定期ライヴ\n美味しいお食事と一緒にお楽しみください。 \n出演：【アイリッシュバンド “みゅーず” 】\n西川聖悟郎：ギター\n大城敦博：ヴァイオリン、エキノクス、ヴァイパー \n主な演奏内容\n#アイリッシュ\n#スコティッシュ\n#オリジナル(西川聖悟郎/大城敦博) \n“Muse” Monthly Concert\nPlease come and enjoy the combination of good meals and Irish music! \nDate: February 22.(Sat)\, 2025\ntime: 12:00 pm ～ 1:00 pm \nPerformers:\n“Muse”\, Irish music band\nSeigoro Nishikawa: Guitar\nAtsuhiro Oshiro: Violin\, Equinox\, Viper \nPlace:Cafe & gallery Michi-no-Tochu\nKuchiudo Sonobe-cho Nantan-shi Kyoto \nMusic fee: Pay what you can\nMeals must be ordered. \n#Irish\n#Scottish\n#Original (Nishikawa/Oshiro)
URL:https://www.ryukyuishviolin.com/event/2025022201
LOCATION:ギャラリーカフェ道の途中\, 園部町口人ヒマキ50番地の1\, 南丹市\, 京都府\, 622-0046\, Japan
CATEGORIES:“みゅーず”定期ライヴ,カフェ・レストラン,バンドライヴ
ATTACH;FMTTYPE=image/jpeg:https://www.ryukyuishviolin.com/wp-content/uploads/2022/03/received_503053451193619.jpeg
END:VEVENT
BEGIN:VEVENT
DTSTART;TZID=Asia/Tokyo:20250228T180000
DTEND;TZID=Asia/Tokyo:20250301T200000
DTSTAMP:20260426T011020
CREATED:20250116T170809Z
LAST-MODIFIED:20250116T170809Z
UID:7973-1740765600-1740859200@www.ryukyuishviolin.com
SUMMARY:さんふらわあ(大阪～志布志)
DESCRIPTION:フェリーさんふらわあ大阪～志布志便\n出演:\n大城敦博:ヴァイパー/ヴァイオリン \n主な演奏内容\n#世界各地の音楽の旅\n#琉球提琴曲\n#琉球ヴァイオリン \nFerry Sunflower\nOsaka ～ Shibushi\nPerformer:\nAtsuhiro Oshiro:Violin / Viper \nMain Performance Contents\n#Masterpieces around the world\n#Ryukyuish (old-Okinawan)
URL:https://www.ryukyuishviolin.com/event/20250228
CATEGORIES:イベント,ソロライヴ,フェリー
ATTACH;FMTTYPE=image/jpeg:https://www.ryukyuishviolin.com/wp-content/uploads/2024/03/20240306_205119.jpg
END:VEVENT
BEGIN:VEVENT
DTSTART;TZID=Asia/Tokyo:20250314T193000
DTEND;TZID=Asia/Tokyo:20250315T203000
DTSTAMP:20260426T011020
CREATED:20250122T023359Z
LAST-MODIFIED:20250204T023912Z
UID:7987-1741980600-1742070600@www.ryukyuishviolin.com
SUMMARY:さんふらわあ (大阪⇔志布志) Ferry “Sunflower”(Osaka⇔Shibushi)
DESCRIPTION:フェリーさんふらわあ大阪～志布志便\n出演:\n大城敦博:ヴァイパー/ヴァイオリン \n主な演奏内容\n#世界各地の音楽の旅\n#琉球提琴曲\n#琉球ヴァイオリン \nFerry Sunflower\nOsaka ～ Shibushi \nPerformer:\nAtsuhiro Oshiro:Violin / Viper \nMain Performance Contents\n#Masterpieces around the world\n#Ryukyuish (old-Okinawan)
URL:https://www.ryukyuishviolin.com/event/20250314
CATEGORIES:イベント,フェリー
ATTACH;FMTTYPE=image/jpeg:https://www.ryukyuishviolin.com/wp-content/uploads/2024/03/20240306_205119.jpg
END:VEVENT
BEGIN:VEVENT
DTSTART;TZID=Asia/Tokyo:20250817T183000
DTEND;TZID=Asia/Tokyo:20250818T200000
DTSTAMP:20260426T011020
CREATED:20250627T111925Z
LAST-MODIFIED:20250627T111925Z
UID:8316-1755455400-1755547200@www.ryukyuishviolin.com
SUMMARY:さんふらわあ (大阪⇔志布志) Ferry “Sunflower”(Osaka⇔Shibushi)
DESCRIPTION:フェリーさんふらわあ大阪～志布志便\n出演:\n大城敦博:ヴァイパー/ヴァイオリン \n主な演奏内容\n#世界各地の音楽の旅\n#琉球提琴曲\n#琉球ヴァイオリン \nFerry Sunflower\nOsaka ～ Shibushi \nPerformer:\nAtsuhiro Oshiro:Violin / Viper \nMain Performance Contents\n#Masterpieces around the world\n#Ryukyuish (old-Okinawan)
URL:https://www.ryukyuishviolin.com/event/20250817
CATEGORIES:イベント,ソロライヴ,フェリー
ATTACH;FMTTYPE=image/jpeg:https://www.ryukyuishviolin.com/wp-content/uploads/2024/03/20240306_205119.jpg
END:VEVENT
BEGIN:VEVENT
DTSTART;TZID=Asia/Tokyo:20250921T183000
DTEND;TZID=Asia/Tokyo:20250922T210000
DTSTAMP:20260426T011020
CREATED:20250629T133852Z
LAST-MODIFIED:20250629T133852Z
UID:8325-1758479400-1758574800@www.ryukyuishviolin.com
SUMMARY:さんふらわあ (大阪⇔志布志) Ferry “Sunflower”(Osaka⇔Shibushi)
DESCRIPTION:フェリーさんふらわあ大阪～志布志便\n出演:\n大城敦博:ヴァイパー/ヴァイオリン \n主な演奏内容\n#世界各地の音楽の旅\n#琉球提琴曲\n#琉球ヴァイオリン \nFerry Sunflower\nOsaka ～ Shibushi \nPerformer:\nAtsuhiro Oshiro:Violin / Viper \nMain Performance Contents\n#Masterpieces around the world\n#Ryukyuish (old-Okinawan)
URL:https://www.ryukyuishviolin.com/event/20250921
CATEGORIES:イベント
ATTACH;FMTTYPE=image/jpeg:https://www.ryukyuishviolin.com/wp-content/uploads/2024/03/20240306_205119.jpg
END:VEVENT
BEGIN:VEVENT
DTSTART;TZID=Asia/Tokyo:20251202T200000
DTEND;TZID=Asia/Tokyo:20251203T203000
DTSTAMP:20260426T011020
CREATED:20251005T004959Z
LAST-MODIFIED:20251027T024323Z
UID:8486-1764705600-1764793800@www.ryukyuishviolin.com
SUMMARY:さんふらわあ (大阪⇔別府) Ferry “Sunflower”(Osaka⇔Beppu)
DESCRIPTION:フェリーさんふらわあ\nエンジョイコンサート\n2025.12.2.(火) 大阪→別府\n12.3.(土) 別府→大阪 \n出演：\n大城敦博：ヴァイオリン / ヴァイパーヴァイオリン \n主な演奏内容\n#琉球提琴曲\n#オリジナル\n#琉球器楽\n#琉球ヴァイオリン\n#世界の名曲 \nFerry SUNFLOWER\n“Enjoy Concert” \nDecember. 2\, 2025\nfrom Osaka to Beppu\nDecember. 3.\nfrom Beppu to Osaka \nPerformers:\nAtsuhiro Oshiro: violin / viper violin \nMain performance contents\n#Ryukyuish (old-Okinawan)\n#Originals\n#World music
URL:https://www.ryukyuishviolin.com/event/2025-12-02
CATEGORIES:イベント
ATTACH;FMTTYPE=image/jpeg:https://www.ryukyuishviolin.com/wp-content/uploads/2024/03/20240306_205119.jpg
END:VEVENT
BEGIN:VEVENT
DTSTART;TZID=Asia/Tokyo:20260531T193000
DTEND;TZID=Asia/Tokyo:20260601T203000
DTSTAMP:20260426T011020
CREATED:20260309T082029Z
LAST-MODIFIED:20260309T082029Z
UID:8673-1780255800-1780345800@www.ryukyuishviolin.com
SUMMARY:さんふらわあ (大阪⇔別府) Ferry “Sunflower”(Osaka⇔Beppu)
DESCRIPTION:フェリーさんふらわあ\nエンジョイコンサート\n2026.5.31.(日) 大阪→別府\n6.1.(月) 別府→大阪 \n出演：琉球ヴァイオリン＆VaGu \n主な演奏内容\n#琉球提琴曲\n#オリジナル\n#琉球器楽\n#琉球ヴァイオリン\n#世界の名曲 \nFerry SUNFLOWER\n“Enjoy Concert” \nMay. 31\, 2026\nfrom Osaka to Beppu\nJune. 1.\nfrom Beppu to Osaka \nPerformers∶The Ryukyuish Violin & VaGu \nMain performance contents\n#Ryukyuish (old-Okinawan)\n#Originals\n#World music
URL:https://www.ryukyuishviolin.com/event/20260531
CATEGORIES:イベント,バンドライヴ,フェリー,琉球提琴曲
ATTACH;FMTTYPE=image/jpeg:https://www.ryukyuishviolin.com/wp-content/uploads/2024/03/20240306_205119.jpg
END:VEVENT
END:VCALENDAR